BEGIN:VCALENDAR
VERSION:2.0
PRODID:-//hacksw/handcal//NONSGML v1.0//EN
CALSCALE:GREGORIAN
BEGIN:VEVENT
DTEND:20210901T200000Z
UID: 69e7258e68c0f
DTSTAMP:20260421T022150Z
LOCATION:Highland Springs Golf Course
DESCRIPTION:The Vikings will begin the women's golf season hosting the second Quad City Cup. Teams will tee off at 3 p.m.&nbsp\;\n\nThe team will remain in Rock Island&nbsp\;for the annual Highland Classic Sept. 4-5 before traveling for the remainder of the season.\n
URL;VALUE=URI:https://augustana.edu/about-us/events/2021/womens-golf-quad-city-cup
SUMMARY:Women's golf: Quad City Cup
DTSTART:20210901T200000Z
END:VEVENT
END:VCALENDAR
