BEGIN:VCALENDAR
VERSION:2.0
PRODID:-//hacksw/handcal//NONSGML v1.0//EN
CALSCALE:GREGORIAN
BEGIN:VEVENT
DTEND:20220902T180000Z
UID: 69e72581d94aa
DTSTAMP:20260421T022137Z
LOCATION:Highland Springs Golf Course
DESCRIPTION:The Vikings will play in the annual&nbsp\;Highland Classic Sept. 2-3.\n\nAfter the Clarke Fall Classic in mid-September in Galena the Vikings will head to Whitetail Ridge Golf Course in Yorkville\, Ill.\, for a CCIW preview Sept. 21. The CCIW championships will take place in early May at Whitetail Ridge.\n\nAugie closes the fall campaign with the Midwest Region Classic in late September in Kansasville\, Wis.\, before venturing to Nashport\, Ohio\, for the Region V Fall Preview.&nbsp\;\n
URL;VALUE=URI:https://augustana.edu/about-us/events/2022/mens-golf-highland
SUMMARY:Men's golf: Highland Classic
DTSTART:20220902T180000Z
END:VEVENT
END:VCALENDAR
