BEGIN:VCALENDAR
VERSION:2.0
PRODID:-//hacksw/handcal//NONSGML v1.0//EN
CALSCALE:GREGORIAN
BEGIN:VEVENT
DTEND:20210918T210000Z
UID: 69e724f76fbc6
DTSTAMP:20260421T021919Z
LOCATION:Carver P.E. Center
DESCRIPTION:The Augustana women's volleyball team will host the&nbsp\;annual Viking Classic tournament.\n\nToday\, the Vikings will play at 10 a.m. vs. Knox and 2 p.m. vs. Coe.\n\nHome schedule\n\nSept. 22: 7 p.m. vs.Carthage&nbsp\;&nbsp\; &nbsp\;&nbsp\;&nbsp\; &nbsp\;&nbsp\;&nbsp\; &nbsp\;\n\nOct. 6: 7 p.m. vs.North Park&nbsp\;&nbsp\; &nbsp\;&nbsp\;&nbsp\; &nbsp\;&nbsp\;&nbsp\; &nbsp\;\n\nOct. 8: 7 p.m. vs.Millikin&nbsp\;&nbsp\; &nbsp\;&nbsp\;&nbsp\; &nbsp\;&nbsp\;&nbsp\; &nbsp\;\n\nOct. 15: 7 p.m. vs.Dubuque&nbsp\;&nbsp\; &nbsp\;&nbsp\;&nbsp\; &nbsp\;&nbsp\;&nbsp\; &nbsp\;\n\nOct. 20: 7 p.m. vs.Carroll\n\nPumpkin Bash&nbsp\;&nbsp\; &nbsp\;&nbsp\;&nbsp\; &nbsp\;&nbsp\;&nbsp\; &nbsp\;&nbsp\;&nbsp\; &nbsp\;\n\nOct. 29: 4 p.m. vs. Benedictine and 8 p.m. vs. Simpson&nbsp\;&nbsp\; &nbsp\;&nbsp\;&nbsp\; &nbsp\;\n\nOct. 30: 1 p.m. vs. Edgewood &nbsp\;&nbsp\; &nbsp\;\n&nbsp\;\n
URL;VALUE=URI:https://augustana.edu/about-us/events/2021/womens-volleyball-viking-classic2
SUMMARY:Women's volleyball: Viking Classic
DTSTART:20210918T210000Z
END:VEVENT
END:VCALENDAR
