BEGIN:VCALENDAR
VERSION:2.0
PRODID:-//hacksw/handcal//NONSGML v1.0//EN
CALSCALE:GREGORIAN
BEGIN:VEVENT
DTEND:20220901T230000Z
UID: 69e5346f09e1e
DTSTAMP:20260419T150047Z
LOCATION:Carver P.E. Center
DESCRIPTION:The Augustana women's volleyball team will open its home season vs. the Knox College Prairie Fire.\n\nHome schedule&nbsp\; &nbsp\; &nbsp\; &nbsp\;&nbsp\;\n\nSept. 16-17: Viking Classic\, with Monmouth\, Principia\, Marian and Blackburn&nbsp\;\n\nSept. 20: 7 p.m. vs. North Central&nbsp\; &nbsp\;&nbsp\;\n\nSept. 30: 7 p.m. vs. Illinois Wesleyan&nbsp\; &nbsp\; &nbsp\;\n\nOct. 1: 11 a.m. vs. Loras\n\nOct. 1: 3 p.m. vs. Grinnell\n\nOct. 22: 2 p.m. vs. North Park\n\nOct. 26: 7 p.m. vs. Carroll\n
URL;VALUE=URI:https://augustana.edu/about-us/events/2021/womens-volleyball-carthage
SUMMARY:Women's volleyball vs. Knox College
DTSTART:20220901T230000Z
END:VEVENT
END:VCALENDAR
