BEGIN:VCALENDAR
VERSION:2.0
PRODID:-//hacksw/handcal//NONSGML v1.0//EN
CALSCALE:GREGORIAN
BEGIN:VEVENT
DTEND:20210907T223000Z
UID: 69eb28b8da4ee
DTSTAMP:20260424T032424Z
LOCATION:Carver P.E. Center
DESCRIPTION:Students interested in playing women’s lacrosse should join the team for an interest meeting.\n\n&nbsp\;If you cannot attend the meeting or want more information\, contact Coach Caroline Holder.&nbsp\;\n
URL;VALUE=URI:https://augustana.edu/about-us/events/2021/womens-lacrosse-meeting
SUMMARY:Women's lacrosse meeting
DTSTART:20210907T223000Z
END:VEVENT
END:VCALENDAR
