BEGIN:VCALENDAR
VERSION:2.0
PRODID:-//hacksw/handcal//NONSGML v1.0//EN
CALSCALE:GREGORIAN
BEGIN:VEVENT
DTEND:20230316T013100Z
UID: 69e6fadcd4cfc
DTSTAMP:20260420T231940Z
LOCATION:Bahls Campus Leadership Center
DESCRIPTION:This half-hour music and prayer service with communion is led by Pastor Melinda Pupillo and students.\n&nbsp\;\n\n\n
URL;VALUE=URI:https://augustana.edu/about-us/events/2023/wednesday-831
SUMMARY:Wednesday 8:31
DTSTART:20230316T013100Z
END:VEVENT
END:VCALENDAR
