BEGIN:VCALENDAR
VERSION:2.0
PRODID:-//hacksw/handcal//NONSGML v1.0//EN
CALSCALE:GREGORIAN
BEGIN:VEVENT
DTEND:20211021T220000Z
UID: 69e5cb0645b06
DTSTAMP:20260420T014318Z
LOCATION:Lower Quad
DESCRIPTION:Her Campus will present OctobHER Fest\, a fundraiser for the Breast Cancer Research Foundation. From 5-8 p.m.\, there will be pumpkin painting\, games\, prizes\, pie-someone-in-the face\, food and more.\n
URL;VALUE=URI:https://augustana.edu/about-us/events/2021/octobher-fest
SUMMARY:OctobHer fest
DTSTART:20211021T220000Z
END:VEVENT
END:VCALENDAR
