BEGIN:VCALENDAR
VERSION:2.0
PRODID:-//hacksw/handcal//NONSGML v1.0//EN
CALSCALE:GREGORIAN
BEGIN:VEVENT
DTEND:20211023T020000Z
UID: 69e519ad811e0
DTSTAMP:20260419T130637Z
LOCATION:Lower Quad
DESCRIPTION:Join the Student Life Programming Board for a late night adventure in the Quad. Grab five friends and form your own laser tag team to compete with other students in the natural terrain the campus provides. Fires\, food\, prizes and fun.\n
URL;VALUE=URI:https://augustana.edu/about-us/events/2021/late-night-laser-tag
SUMMARY:Late Night: Laser tag
DTSTART:20211023T020000Z
END:VEVENT
END:VCALENDAR
