BEGIN:VCALENDAR
VERSION:2.0
PRODID:-//hacksw/handcal//NONSGML v1.0//EN
CALSCALE:GREGORIAN
BEGIN:VEVENT
DTEND:20211104T203000Z
UID: 69eb00ea0fbe3
DTSTAMP:20260424T003434Z
LOCATION:Peter J. Lindberg\, M.D.\, Center for Health and Human Performance
DESCRIPTION:Zachary Draves\,&nbsp\;program director for sexual violence prevention and education\, will&nbsp\;shares ways that athletes can advocate for the causes they believe in.\n\nWell-being labs provide students with knowledge and skills from different disciplines. Students will have the opportunity to explore social\, occupational\, intellectual\, emotional\, physical and spiritual well-being in interactive sessions with campus experts.&nbsp\;\n
URL;VALUE=URI:https://augustana.edu/about-us/events/2021/well-being-lab-athletes-social-change-agents
SUMMARY:Well-Being Lab: Athletes as Social Change Agents
DTSTART:20211104T203000Z
END:VEVENT
END:VCALENDAR
