BEGIN:VCALENDAR
VERSION:2.0
PRODID:-//hacksw/handcal//NONSGML v1.0//EN
CALSCALE:GREGORIAN
BEGIN:VEVENT
DTEND:20211029T230000Z
UID: 69eb00f0d12ed
DTSTAMP:20260424T003440Z
LOCATION:The Gerber Center for Student Life
DESCRIPTION:The Filipino Student Organization will celebration Filipino-American Heritage Month with a Salu-Salo (gathering). Students are invited to join in and learn an aspect of Filipino culture by eating\, singing\, dancing\, and playing Filipino street games.\n\nLearn how to dance "tinikling\," a unique traditional dance in the Philippines that involves bamboo sticks\; team up with friends in a street game called "patintero"\; or enjoy a "banana-cue\," one of the Philippines' sweet delicacies.\n
URL;VALUE=URI:https://augustana.edu/about-us/events/2021/filipino-salu-salo
SUMMARY:Filipino Salu-Salo
DTSTART:20211029T230000Z
END:VEVENT
END:VCALENDAR
