BEGIN:VCALENDAR
VERSION:2.0
PRODID:-//hacksw/handcal//NONSGML v1.0//EN
CALSCALE:GREGORIAN
BEGIN:VEVENT
DTEND:20211111T160000Z
UID: 69e6acaad5116
DTSTAMP:20260420T174602Z
LOCATION:PepsiCo Recreation Center
DESCRIPTION:The Greek Council will sponsor a blood drive from 10 a.m.- 3 p.m. Appointments are requested\; use code 006.\n\nThe council has partnered with ImpactLife (formerly known as the Mississippi Valley Regional Blood Center) a not-for-profit community blood center that serves 120 hospitals in Illinois\, Iowa\, Missouri\, and Wisconsin.\n
URL;VALUE=URI:https://augustana.edu/about-us/events/2021/blood-drive-0
SUMMARY:Blood drive
DTSTART:20211111T160000Z
END:VEVENT
END:VCALENDAR
