BEGIN:VCALENDAR
VERSION:2.0
PRODID:-//hacksw/handcal//NONSGML v1.0//EN
CALSCALE:GREGORIAN
BEGIN:VEVENT
DTEND:20220504T224500Z
UID: 69e5c697ab860
DTSTAMP:20260420T012423Z
LOCATION:Swanson Stadium/Brunner Field
DESCRIPTION:The Vikings baseball team will host Simpson College.\n\n\n\n&nbsp\;\n
URL;VALUE=URI:https://augustana.edu/about-us/events/2021/baseball-vs-simpson
SUMMARY:Baseball vs. Simpson College
DTSTART:20220504T224500Z
END:VEVENT
END:VCALENDAR
