BEGIN:VCALENDAR
VERSION:2.0
PRODID:-//hacksw/handcal//NONSGML v1.0//EN
CALSCALE:GREGORIAN
BEGIN:VEVENT
DTEND:20220114T010000Z
UID: 69e6756e56505
DTSTAMP:20260420T135022Z
LOCATION:Carver P.E. Center
DESCRIPTION:The Vikings men's wrestling team match against Coe College has been postponed due to health and safety concerns. A make-up date has not been determined.\n
URL;VALUE=URI:https://augustana.edu/about-us/events/2021/mens-wrestling-vs-coe
SUMMARY:Men's wrestling vs. Coe College postponed
DTSTART:20220114T010000Z
END:VEVENT
END:VCALENDAR
