BEGIN:VCALENDAR
VERSION:2.0
PRODID:-//hacksw/handcal//NONSGML v1.0//EN
CALSCALE:GREGORIAN
BEGIN:VEVENT
DTEND:20221112T190000Z
UID: 69e535d8a138b
DTSTAMP:20260419T150648Z
LOCATION:Peter J. Lindberg\, M.D.\, Center for Health and Human Performance
DESCRIPTION:The Vikings men's water polo team will play the McKendree Bearcats in their only home match of the season. There also will be a 4 p.m. exhibition match against the&nbsp\;McKendree club team.\n\nThese events will be livestreamed.\n\n&nbsp\;\n
URL;VALUE=URI:https://augustana.edu/about-us/events/2021/mens-water-polo-mckendree
SUMMARY:Men's water polo vs. McKendree University
DTSTART:20221112T190000Z
END:VEVENT
END:VCALENDAR
