BEGIN:VCALENDAR
VERSION:2.0
PRODID:-//hacksw/handcal//NONSGML v1.0//EN
CALSCALE:GREGORIAN
BEGIN:VEVENT
DTEND:20211118T213000Z
UID: 69e7e6517d964
DTSTAMP:20260421T160417Z
LOCATION:Peter J. Lindberg\, M.D.\, Center for Health and Human Performance
DESCRIPTION:Feeling down or overwhelmed? This interactive workshop from one of Augie's licensed mental health counselors will provide students with skills to recognize and manage symptoms they may be experiencing. It will provide life-long tools students can use while facing difficult times.\n&nbsp\;\n
URL;VALUE=URI:https://augustana.edu/about-us/events/2021/well-being-lab-getting-unstuck-0
SUMMARY:Well-being Lab: Getting Unstuck
DTSTART:20211118T213000Z
END:VEVENT
END:VCALENDAR
