BEGIN:VCALENDAR
VERSION:2.0
PRODID:-//hacksw/handcal//NONSGML v1.0//EN
CALSCALE:GREGORIAN
BEGIN:VEVENT
DTEND:20211119T000000Z
UID: 69e9ba642352b
DTSTAMP:20260423T012124Z
LOCATION:The Gerber Center for Student Life
DESCRIPTION:The Office of International Students and Scholar Services hosts this International Education Week event on masculinity.\n
URL;VALUE=URI:https://augustana.edu/about-us/events/2021/redefining-masculinity
SUMMARY:Redefining masculinity: open conversation with Dr. Michelle Wolff
DTSTART:20211119T000000Z
END:VEVENT
END:VCALENDAR
