BEGIN:VCALENDAR
VERSION:2.0
PRODID:-//hacksw/handcal//NONSGML v1.0//EN
CALSCALE:GREGORIAN
BEGIN:VEVENT
DTEND:20211119T010000Z
UID: 69e9bc84ae680
DTSTAMP:20260423T013028Z
LOCATION:Olin Center for Educational Technology
DESCRIPTION:The Office of International Student and Scholar Services hosts this event as part of International Education Week.&nbsp\;\n\nThe French movie is about an aristocrat who gets in a paragliding accident and becomes quadriplegic. He hires a young man to be his caretaker\, and although the two men are very different\, they bond and create a close friendship.\n
URL;VALUE=URI:https://augustana.edu/about-us/events/2021/international-film-series-intouchables
SUMMARY:International film series: The Intouchables
DTSTART:20211119T010000Z
END:VEVENT
END:VCALENDAR
