BEGIN:VCALENDAR
VERSION:2.0
PRODID:-//hacksw/handcal//NONSGML v1.0//EN
CALSCALE:GREGORIAN
BEGIN:VEVENT
DTEND:20211119T150000Z
UID: 69e9bbeb9a4ac
DTSTAMP:20260423T012755Z
LOCATION:The Gerber Center for Student Life
DESCRIPTION:The Office of International Student and Scholar Services (OISSS) will provide a free coffee bar while they talk about what "home" means and how it connects people.\n
URL;VALUE=URI:https://augustana.edu/about-us/events/2021/expresso-self-coffee-and-conversation-home
SUMMARY:Expresso self: coffee and conversation on "home"
DTSTART:20211119T150000Z
END:VEVENT
END:VCALENDAR
