BEGIN:VCALENDAR
VERSION:2.0
PRODID:-//hacksw/handcal//NONSGML v1.0//EN
CALSCALE:GREGORIAN
BEGIN:VEVENT
DTEND:20230224T191000Z
UID: 69e9ba54ce3d7
DTSTAMP:20260423T012108Z
LOCATION:Peter J. Lindberg\, M.D.\, Center for Health and Human Performance
DESCRIPTION:Join the Muslim Student Association for Jummah Friday prayer.\n\nThe Khutbah/sermon will begin at 1:10 p.m.\, followed by the prayer. For more information\, email msa@augustana.edu.&nbsp\;\n\n&nbsp\;\n
URL;VALUE=URI:https://augustana.edu/about-us/events/2023/jummah-prayer
SUMMARY:Jummah prayer
DTSTART:20230224T191000Z
END:VEVENT
END:VCALENDAR
