BEGIN:VCALENDAR
VERSION:2.0
PRODID:-//hacksw/handcal//NONSGML v1.0//EN
CALSCALE:GREGORIAN
BEGIN:VEVENT
DTEND:20211119T230000Z
UID: 69e71355210aa
DTSTAMP:20260421T010405Z
LOCATION:The Gerber Center for Student Life
DESCRIPTION:The Office of International Student and Scholar Services hosts this event to memorialize those who have lost their lives due to anti-transgender hate.\n\nTransgender Day of Remembrance is observed annually on November 20th. The day of remembrance is held to honor Rite Hester\, whose murder - like most anti-transgender cases - has yet to be solved. This day is meant to raise awareness of hate crimes against transgender people and honor the lives of transgender people who may have otherwise been forgotten.\n
URL;VALUE=URI:https://augustana.edu/about-us/events/2021/transgender-day-remembrance-vigil
SUMMARY:Transgender Day of Remembrance vigil
DTSTART:20211119T230000Z
END:VEVENT
END:VCALENDAR
