BEGIN:VCALENDAR
VERSION:2.0
PRODID:-//hacksw/handcal//NONSGML v1.0//EN
CALSCALE:GREGORIAN
BEGIN:VEVENT
DTEND:20211119T223000Z
UID: 69e9c014952ca
DTSTAMP:20260423T014540Z
LOCATION:The Gerber Center for Student Life
DESCRIPTION:The Office of International Student and Scholar Services (OISSS) hosts this event to discuss Japanese culture and what the kimono means for their culture.\n
URL;VALUE=URI:https://augustana.edu/about-us/events/2021/kimono-japanese-attire-japanese-cultural-experience
SUMMARY:Kimono Japanese attire: Japanese cultural experience
DTSTART:20211119T223000Z
END:VEVENT
END:VCALENDAR
