BEGIN:VCALENDAR
VERSION:2.0
PRODID:-//hacksw/handcal//NONSGML v1.0//EN
CALSCALE:GREGORIAN
BEGIN:VEVENT
DTEND:20211120T143000Z
UID: 69eba59e15017
DTSTAMP:20260424T121718Z
LOCATION:The Gerber Center for Student Life
DESCRIPTION:Grace Bible Fellowship distributes fresh food\, canned goods\, beverages\, and more. Any Augie student needing to fill their fridge/pantry before the Thanksgiving break or for the holiday is welcome to come. Please bring reusable bags and sturdy totes to transport your food items.&nbsp\;\n\nThe Office of International Student and Scholar Services (OISSS) will provide transportation from Augustana College to the Grace Bible Fellowship and back. Pickup is outside of the Gerber Dining Center at 8:30 a.m.\, 9:30 a.m.\, 10:30 a.m.\, and 11:30 a.m.\n\n&nbsp\;\n
URL;VALUE=URI:https://augustana.edu/about-us/events/2021/food-pantry-grace-bible-fellowship
SUMMARY:Food pantry at Grace Bible Fellowship
DTSTART:20211120T143000Z
END:VEVENT
END:VCALENDAR
