BEGIN:VCALENDAR
VERSION:2.0
PRODID:-//hacksw/handcal//NONSGML v1.0//EN
CALSCALE:GREGORIAN
BEGIN:VEVENT
DTEND:20211129T210000Z
UID: 69ea978883126
DTSTAMP:20260423T170456Z
LOCATION:Thomas Tredway Library
DESCRIPTION:The Tredway Library is proud to partner with the QC Canine Assistance Network to bring therapy dogs to the library to help destress before finals week.\n
URL;VALUE=URI:https://augustana.edu/about-us/events/2021/woofapalooza
SUMMARY:Woofapalooza
DTSTART:20211129T210000Z
END:VEVENT
END:VCALENDAR
