BEGIN:VCALENDAR
VERSION:2.0
PRODID:-//hacksw/handcal//NONSGML v1.0//EN
CALSCALE:GREGORIAN
BEGIN:VEVENT
DTEND:20211204T020000Z
UID: 69eaf7bf741fb
DTSTAMP:20260423T235527Z
LOCATION:The Gerber Center for Student Life
DESCRIPTION:The Office of Student Life Games Committee hosts "The Price is Right Ugly Sweater" edition. There will be Bookstore prizes along with opportunities to win some cash.&nbsp\;\n\nSign up as a team of eight in order to participate.&nbsp\;If there are not 10 teams signed up by Friday\, you can sign up at the door to be a part of a team.&nbsp\;\n
URL;VALUE=URI:https://augustana.edu/about-us/events/2021/price-right-0
SUMMARY:Price is Right
DTSTART:20211204T020000Z
END:VEVENT
END:VCALENDAR
