BEGIN:VCALENDAR
VERSION:2.0
PRODID:-//hacksw/handcal//NONSGML v1.0//EN
CALSCALE:GREGORIAN
BEGIN:VEVENT
DTEND:20220121T210000Z
UID: 69e5c66aaaa21
DTSTAMP:20260420T012338Z
LOCATION:St. Ambrose Wellness and Recreation Center
DESCRIPTION:Augustana men's and women's track and field teams will compete in the Bumble Rumble at St. Ambrose University.\n\nField events begin with the high jump\, triple jump\, weight throw and pole vault at 3 p.m.\, followed by running events beginning at 3:30 p.m.\, to include hurdles\, dash\, relays and mile.\n\nFans must remain properly masked at all times.\n
URL;VALUE=URI:https://augustana.edu/about-us/events/2021/track-and-field-rumble
SUMMARY:Track and field: Bumble Rumble
DTSTART:20220121T210000Z
END:VEVENT
END:VCALENDAR
