BEGIN:VCALENDAR
VERSION:2.0
PRODID:-//hacksw/handcal//NONSGML v1.0//EN
CALSCALE:GREGORIAN
BEGIN:VEVENT
DTEND:20211202T013000Z
UID: 69e92889b5ab7
DTSTAMP:20260422T145905Z
LOCATION:Rozz-Tox
DESCRIPTION:Entertainment and Media Studies students who worked with Fresh Films and local bands to produce their music videos will have a premiere showing.\n&nbsp\;\nVideos are for local bands Rude Punch\, Angela Meyer\, and Crimson Clean Sweep.\n&nbsp\;\n
URL;VALUE=URI:https://augustana.edu/about-us/events/2021/student-videos-premiere
SUMMARY:Student videos premiere
DTSTART:20211202T013000Z
END:VEVENT
END:VCALENDAR
