BEGIN:VCALENDAR
VERSION:2.0
PRODID:-//hacksw/handcal//NONSGML v1.0//EN
CALSCALE:GREGORIAN
BEGIN:VEVENT
DTEND:20220126T010000Z
UID: 69e7bde7ae351
DTSTAMP:20260421T131151Z
LOCATION:Bettendorf Public Library
DESCRIPTION:Professors and their students will share their faculty-led study abroad experiences.\n\nFaculty will include:\n\nDr. Mariano J. Magalhães\, professor of political science\, Augustana College\n\nDr. Kirk Kelley\, professor of biology\, St. Ambrose University\n\nDr. Rhiannon Seneli\, associate professor of kinesiology\, St. Ambrose University\n\nDr. Duk Kim\, professor of political science\, St. Ambrose University\n\nProfessors and their students will share their faculty-led study abroad experiences.\n
URL;VALUE=URI:https://augustana.edu/about-us/events/2022/world-affairs-council-quad-cities-stories-around-world
SUMMARY:World Affairs Council of the Quad Cities: Stories from around the world
DTSTART:20220126T010000Z
END:VEVENT
END:VCALENDAR
