BEGIN:VCALENDAR
VERSION:2.0
PRODID:-//hacksw/handcal//NONSGML v1.0//EN
CALSCALE:GREGORIAN
BEGIN:VEVENT
DTEND:20220122T020000Z
UID: 69e694f07ebf8
DTSTAMP:20260420T160448Z
LOCATION:The Gerber Center for Student Life
DESCRIPTION:Alex Ahn is a classically trained violinist who has developed his own style\, stemming from the culture of his hometown\, Atlanta. Ahn shows that the violin can be whatever you want it to be.\n
URL;VALUE=URI:https://augustana.edu/about-us/events/2022/live-campus-alex-ahn-violinist
SUMMARY:Live On Campus: Alex Ahn\, violinist
DTSTART:20220122T020000Z
END:VEVENT
END:VCALENDAR
