BEGIN:VCALENDAR
VERSION:2.0
PRODID:-//hacksw/handcal//NONSGML v1.0//EN
CALSCALE:GREGORIAN
BEGIN:VEVENT
DTEND:20220203T020000Z
UID: 69e538844a36e
DTSTAMP:20260419T151812Z
LOCATION:Olin Center for Educational Technology
DESCRIPTION:Dune tells the story of Paul Atreides\, a brilliant and gifted young man born into a great destiny beyond his understanding\, who must travel to the most dangerous planet in the universe to ensure the future of his family and his people. This film will be shown again on February 4 and 5 at 8:00 p.m.\n
URL;VALUE=URI:https://augustana.edu/about-us/events/2022/movie-dune
SUMMARY:Movie: 'Dune'
DTSTART:20220203T020000Z
END:VEVENT
END:VCALENDAR
