BEGIN:VCALENDAR
VERSION:2.0
PRODID:-//hacksw/handcal//NONSGML v1.0//EN
CALSCALE:GREGORIAN
BEGIN:VEVENT
DTEND:20220303T220000Z
UID: 69ecbc8a2fa4e
DTSTAMP:20260425T080722Z
LOCATION:Olin Center for Educational Technology
DESCRIPTION:The Director of Counseling Services hosts this workshop to learn practical tips to reduce stress.\n
URL;VALUE=URI:https://augustana.edu/about-us/events/2022/well-being-lab-managing-your-stress
SUMMARY:Well-Being Lab: Managing your stress
DTSTART:20220303T220000Z
END:VEVENT
END:VCALENDAR
