BEGIN:VCALENDAR
VERSION:2.0
PRODID:-//hacksw/handcal//NONSGML v1.0//EN
CALSCALE:GREGORIAN
BEGIN:VEVENT
DTEND:20220303T160000Z
UID: 69e846d9cd9fa
DTSTAMP:20260421T225609Z
LOCATION:The Gerber Center for Student Life
DESCRIPTION:The Greek Council and Office of Student Life hosts a blood drive.&nbsp\;\n\nSee available appointment times.\n
URL;VALUE=URI:https://augustana.edu/about-us/events/2022/blood-drive
SUMMARY:Blood drive
DTSTART:20220303T160000Z
END:VEVENT
END:VCALENDAR
