BEGIN:VCALENDAR
VERSION:2.0
PRODID:-//hacksw/handcal//NONSGML v1.0//EN
CALSCALE:GREGORIAN
BEGIN:VEVENT
DTEND:20220319T180000Z
UID: 69e847fd8d61e
DTSTAMP:20260421T230101Z
LOCATION:Centennial Park
DESCRIPTION:The joint Augustana/St. Ambrose rugby club will take on the Irish rugby club.\n
URL;VALUE=URI:https://augustana.edu/about-us/events/2022/augustana-rugby-vs-irish-rugby
SUMMARY:Augustana rugby vs. Irish rugby
DTSTART:20220319T180000Z
END:VEVENT
END:VCALENDAR
