BEGIN:VCALENDAR
VERSION:2.0
PRODID:-//hacksw/handcal//NONSGML v1.0//EN
CALSCALE:GREGORIAN
BEGIN:VEVENT
DTEND:20220412T170000Z
UID: 69e8ab4b0ddea
DTSTAMP:20260422T060443Z
LOCATION:The Gerber Center for Student Life
DESCRIPTION:The Multicultural Programing Board hosts an awareness event about sustainability.\n
URL;VALUE=URI:https://augustana.edu/about-us/events/2022/honest-conversation-sustainability
SUMMARY:Honest Conversation: Sustainability
DTSTART:20220412T170000Z
END:VEVENT
END:VCALENDAR
