BEGIN:VCALENDAR
VERSION:2.0
PRODID:-//hacksw/handcal//NONSGML v1.0//EN
CALSCALE:GREGORIAN
BEGIN:VEVENT
DTEND:20220521T210000Z
UID: 69e5343610491
DTSTAMP:20260419T145950Z
LOCATION:Peter J. Lindberg\, M.D.\, Center for Health and Human Performance
DESCRIPTION:Augustana College will hold its annual Senior Honors Celebration.&nbsp\;\n\n→ Program and list of honorees\n\nTo allow for social distancing\, the honorees will be recognized in smaller categories\, based on department.\n\nAll participants and guests must be masked indoors\, although masks can be briefly removed for photos. Light refreshments will be served.\n
URL;VALUE=URI:https://augustana.edu/about-us/events/2022/senior-honors-celebration
SUMMARY:Senior Honors Celebration
DTSTART:20220521T210000Z
END:VEVENT
END:VCALENDAR
