BEGIN:VCALENDAR
VERSION:2.0
PRODID:-//hacksw/handcal//NONSGML v1.0//EN
CALSCALE:GREGORIAN
BEGIN:VEVENT
DTEND:20220629T150000Z
UID: 69e535e836007
DTSTAMP:20260419T150704Z
LOCATION:The Gerber Center for Student Life
DESCRIPTION:The Augustana Office of International Student and Scholar Services and World Relief\, an agency in Moline\, Ill.\, will sponsor&nbsp\;Around the World: Cultural Heritage Show and Tell. This event is for students of all ages\, and includes an English summer camp\, sharing of traditional dishes and cultural heritage.\n\n&nbsp\;\n
URL;VALUE=URI:https://augustana.edu/about-us/events/2022/around-world-cultural-heritage-show-and-tell
SUMMARY:Around the World: Cultural Heritage Show and Tell 
DTSTART:20220629T150000Z
END:VEVENT
END:VCALENDAR
