BEGIN:VCALENDAR
VERSION:2.0
PRODID:-//hacksw/handcal//NONSGML v1.0//EN
CALSCALE:GREGORIAN
BEGIN:VEVENT
DTEND:20221204T200000Z
UID: 69eac6e106bed
DTSTAMP:20260423T202657Z
LOCATION:Centennial Hall
DESCRIPTION:The Augustana Symphony Orchestra joins the Augustana Brass Ensemble\, Ascension Ringers\, Augustana Choir\, Augustana Concert Chorale and Jenny Lind Vocal Ensemble in a celebration of the holiday season. Performances are Dec. 3-4 at 2 p.m.\n\nTickets will go on sale Sept. 30.\n
URL;VALUE=URI:https://augustana.edu/about-us/events/2022/christmas-augustana2
SUMMARY:Christmas at Augustana
DTSTART:20221204T200000Z
END:VEVENT
END:VCALENDAR
