BEGIN:VCALENDAR
VERSION:2.0
PRODID:-//hacksw/handcal//NONSGML v1.0//EN
CALSCALE:GREGORIAN
BEGIN:VEVENT
DTEND:20220922T230000Z
UID: 69e5f671487f1
DTSTAMP:20260420T044833Z
LOCATION:
DESCRIPTION:Augustana College is offering special webinars in September for students and families to learn about Augustana Possible.\n\nThis program meets 100% of demonstrated financial need for qualifying newly enrolled students who are high-achieving and from families with lower incomes. Financial eligibility is determined by filing the Free Application for Federal Student Aid (FAFSA).&nbsp\;\n\nFamilies who cannot attend today are invited to sign up for any of the following dates. All times are CDT.\n\n→&nbsp\;Sept. 29 at 7 p.m.\n
URL;VALUE=URI:https://augustana.edu/about-us/events/2022/augustana-possible-webinar-22
SUMMARY:Augustana Possible webinar
DTSTART:20220922T230000Z
END:VEVENT
END:VCALENDAR
