BEGIN:VCALENDAR
VERSION:2.0
PRODID:-//hacksw/handcal//NONSGML v1.0//EN
CALSCALE:GREGORIAN
BEGIN:VEVENT
DTEND:20221210T013000Z
UID: 69e5f6205020d
DTSTAMP:20260420T044712Z
LOCATION:The Gerber Center for Student Life
DESCRIPTION:Augustana's Jazz Ensemble&nbsp\;and Combos&nbsp\;will perform their second annual "Swingin' Christmas at Augustana" with&nbsp\;a variety of holiday favorites\, including "Sleigh Ride" (as performed&nbsp\;by The Glenn Miller Orchestra)\, "Winter Wonderland" (as sung by Ella Fitzgerald) and "Jingle&nbsp\;Bells" (as performed by The Count Basie Orchestra).\n\nThe Augustana Jazz Ensemble also will play&nbsp\;three movements of the famous “Ellington Nutcracker” — Duke Ellington and Billy&nbsp\;Strayhorn’s reinterpretation of Tchaikovsky’s Nutcracker Suite.\n\nProgram\n\n"Sleigh Ride" by Leroy Anderson\, arranged by John LaBarbera\n\n"God Rest Ye Merry Gentlemen\," arranged by Rich DeRosa\n\n"Have Yourself A Merry Little Christmas" by Martin/Blane\, arranged by Alan Baylock\n\n"Winter Wonderland\," arranged by Frank DeVol\n\n"The Nutcracker Suite Movement I (Overture) by Tchaikovsky\,arranged by Ellington/Strayhorn\n\n"The Nutcracker Suite Movement &nbsp\;IV (Sugar Rum Cherry) by Tchaikovsky\, arranged by Ellington/Strayhorn\n\n"The Nutcracker Suite Movement VII (Dance of the Floreadores) by Tchaikovsky\, arranged by Ellington/Strayhorn\n\n"What Are You Doing New Years Eve?"\, arranged by Jon Harpin\n\n"Go Tell it on the Mountain\," arranged byAlan Baylock\n\n"Jingle Bells\," arranged by Ernie Wilkins\n
URL;VALUE=URI:https://augustana.edu/about-us/events/2022/jazz-ensemble-concert-dec
SUMMARY:Jazz concert: Swingin' Christmas at Augustana
DTSTART:20221210T013000Z
END:VEVENT
END:VCALENDAR
