BEGIN:VCALENDAR
VERSION:2.0
PRODID:-//hacksw/handcal//NONSGML v1.0//EN
CALSCALE:GREGORIAN
BEGIN:VEVENT
DTEND:20220912T190000Z
UID: 69eaa899e2ff5
DTSTAMP:20260423T181745Z
LOCATION:
DESCRIPTION:First-year and sophomore students are invited to get an overview of the different paths into a nursing career\n\nDr. Dara Wegman-Geedey will review the pre-nursing program and answer any questions so students can get the big picture for courses and possible internships or jobs in the next three-four years.\n\nAugustana has both a BA/BSN dual degree and a BA/MSN dual degree with the Trinity College of Nursing &amp\; Health Sciences in Rock Island\, but there are many options to consider.\n
URL;VALUE=URI:https://augustana.edu/about-us/events/2022/pre-nursing-info-session2
SUMMARY:Pre-nursing info session
DTSTART:20220912T190000Z
END:VEVENT
END:VCALENDAR
