BEGIN:VCALENDAR
VERSION:2.0
PRODID:-//hacksw/handcal//NONSGML v1.0//EN
CALSCALE:GREGORIAN
BEGIN:VEVENT
DTEND:20220916T220000Z
UID: 69e814e9ef47c
DTSTAMP:20260421T192305Z
LOCATION:Carver P.E. Center
DESCRIPTION:The Augustana women's volleyball team will host the annual Viking Classic Sept. 16-17 and will welcome six teams to compete in 10 total games.\n\nAugie will face the Blackburn Beavers at 5 p.m. today\, and the Monmouth Scotts at 7:30 p.m.\n\nHome schedule&nbsp\; &nbsp\; &nbsp\; &nbsp\;&nbsp\;\n\nSept. 16-17: Viking Classic\, with Monmouth\, Principia\, Marian and Blackburn&nbsp\;\n\nSept. 20: 7 p.m. vs. North Central&nbsp\; &nbsp\;&nbsp\;\n\nSept. 30: 7 p.m. vs. Illinois Wesleyan&nbsp\; &nbsp\; &nbsp\;\n\nOct. 1: 11 a.m. vs. Loras\n\nOct. 1: 3 p.m. vs. Grinnell\n\nOct. 22: 2 p.m. vs. North Park\n\nOct. 26: 7 p.m. vs. Carroll\n
URL;VALUE=URI:https://augustana.edu/about-us/events/2022/womens-volleyball-vs-blackburn
SUMMARY:Viking Classic women's volleyball
DTSTART:20220916T220000Z
END:VEVENT
END:VCALENDAR
