BEGIN:VCALENDAR
VERSION:2.0
PRODID:-//hacksw/handcal//NONSGML v1.0//EN
CALSCALE:GREGORIAN
BEGIN:VEVENT
DTEND:20221001T000000Z
UID: 69e817d14b7ff
DTSTAMP:20260421T193529Z
LOCATION:Carver P.E. Center
DESCRIPTION:The Augustana&nbsp\;women's volleyball team&nbsp\;will play the Illinois Wesleyan University Titans.\n\nHome schedule &nbsp\; &nbsp\; &nbsp\; &nbsp\; &nbsp\;&nbsp\;\n\nOct. 1: 11 a.m. vs. Loras\n\nOct. 1: 3 p.m. vs. Grinnell\n\nOct. 22: 2 p.m. vs. North Park\n\nOct. 26: 7 p.m. vs. Carroll\n
URL;VALUE=URI:https://augustana.edu/about-us/events/2022/womens-volleyball-vs-illinois-wesleyan
SUMMARY:Women's volleyball vs. Illinois Wesleyan
DTSTART:20221001T000000Z
END:VEVENT
END:VCALENDAR
