BEGIN:VCALENDAR
VERSION:2.0
PRODID:-//hacksw/handcal//NONSGML v1.0//EN
CALSCALE:GREGORIAN
BEGIN:VEVENT
DTEND:20230412T203000Z
UID: 69e817f5bd018
DTSTAMP:20260421T193605Z
LOCATION:Tennis Courts
DESCRIPTION:The Augustana Vikings men's tennis team will play its&nbsp\;first home match against St. Ambrose in an exhibition contest and Elmhurst in their conference home opener.&nbsp\;\n
URL;VALUE=URI:https://augustana.edu/about-us/events/2022/mens-tennis-vs-st-ambrose-elmhurst
SUMMARY:Men's tennis vs. St. Ambrose\, Elmhurst
DTSTART:20230412T203000Z
END:VEVENT
END:VCALENDAR
