BEGIN:VCALENDAR
VERSION:2.0
PRODID:-//hacksw/handcal//NONSGML v1.0//EN
CALSCALE:GREGORIAN
BEGIN:VEVENT
DTEND:20221005T223000Z
UID: 69e928aa4e38f
DTSTAMP:20260422T145938Z
LOCATION:Denkmann Memorial Building
DESCRIPTION:The Nepali Student Association invites the campus community to join in a&nbsp\;Dashain&nbsp\;Tika ceremony with dances\, performances\, Nepali food\, and henna.\n\nDashain is a major Hindu religious festival in Nepal\, also celebrated by Hindus elsewhere in the world. In Nepal\, it is&nbsp\; the biggest festival of the year.\n
URL;VALUE=URI:https://augustana.edu/about-us/events/2022/dashain-tika-ceremony
SUMMARY:Dashain Tika ceremony
DTSTART:20221005T223000Z
END:VEVENT
END:VCALENDAR
