BEGIN:VCALENDAR
VERSION:2.0
PRODID:-//hacksw/handcal//NONSGML v1.0//EN
CALSCALE:GREGORIAN
BEGIN:VEVENT
DTEND:20170203T223000Z
UID: 69e76c97f3261
DTSTAMP:20260421T072455Z
LOCATION:The Gerber Center for Student Life
DESCRIPTION:The Office of International Student Life will sponsor the International Street Fest\, with a fashion show of traditional clothing\, international dinner\, game night and folklore presentation. All events are free except the dinner.\n\nA variety of cuisine from around the world will be served in the Gerber Center Dining Hall from 4:30-7 pm. Meal swipes for Augustana students will be valid\, and the cost for community members will be $11.25. Faculty and staff will be able to enjoy the meal &nbsp\;at a discounted price.&nbsp\;\n\nThe menu will represent Africa\, Asia\, Latin America\, the Caribbean\, Europe and the US.&nbsp\;\n\nFull International Street Fest Itinerary:\n\nFolklore &amp\; More is from 4-6 p.m. Thursday\, followed by Game Night in the Brew by the Slough. Those interested in competing at Game Night should register by Jan. 25.\n\nOn Friday\, the dinner will be served from 4:30-7 p.m. in the dining hall. The cost of the international dinner is $11.25 for those without an Augustana meal plan. The menu will represent Africa\, Asia\, Latin America\, the Caribbean\, Europe\, and the U.S.\n\nThe Culture Show will begin at 6:30 p.m. Friday in the Gävle Rooms. There will be fashion show of traditional clothing from around the world and an exhibit of student artifacts. Hors d’oeuvres and refreshments will be served. Those interested in participating should sign up by Jan. 25.\n
URL;VALUE=URI:https://augustana.edu/about-us/events/2017/international-street-fest-dinner
SUMMARY:International Street Fest: Dinner
DTSTART:20170203T223000Z
END:VEVENT
END:VCALENDAR
