BEGIN:VCALENDAR
VERSION:2.0
PRODID:-//hacksw/handcal//NONSGML v1.0//EN
CALSCALE:GREGORIAN
BEGIN:VEVENT
DTEND:20221119T003000Z
UID: 69e70c26f3f75
DTSTAMP:20260421T003326Z
LOCATION:Denkmann Memorial Building
DESCRIPTION:Chi Omega Gamma hosts a pre-rush event for potential new members to interact with active members.&nbsp\;\n
URL;VALUE=URI:https://augustana.edu/about-us/events/2022/pjs-and-pancakes
SUMMARY:Pj's and pancakes
DTSTART:20221119T003000Z
END:VEVENT
END:VCALENDAR
