BEGIN:VCALENDAR
VERSION:2.0
PRODID:-//hacksw/handcal//NONSGML v1.0//EN
CALSCALE:GREGORIAN
BEGIN:VEVENT
DTEND:20221112T173000Z
UID: 69e70c17927cb
DTSTAMP:20260421T003311Z
LOCATION:Palace
DESCRIPTION:Rho Nu Delta hosts a pre-rush event for potential new members to interact with active members.&nbsp\;\n
URL;VALUE=URI:https://augustana.edu/about-us/events/2022/polo-and-pizza
SUMMARY:Polo and Pizza
DTSTART:20221112T173000Z
END:VEVENT
END:VCALENDAR
