BEGIN:VCALENDAR
VERSION:2.0
PRODID:-//hacksw/handcal//NONSGML v1.0//EN
CALSCALE:GREGORIAN
BEGIN:VEVENT
DTEND:20221027T000000Z
UID: 69eb056d8aa90
DTSTAMP:20260424T005349Z
LOCATION:Denkmann Memorial Building
DESCRIPTION:Come to learn more about German Club and enjoy some snacks!\n
URL;VALUE=URI:https://augustana.edu/about-us/events/2022/german-trivia-night
SUMMARY:German trivia night
DTSTART:20221027T000000Z
END:VEVENT
END:VCALENDAR
