BEGIN:VCALENDAR
VERSION:2.0
PRODID:-//hacksw/handcal//NONSGML v1.0//EN
CALSCALE:GREGORIAN
BEGIN:VEVENT
DTEND:20221218T150000Z
UID: 69ebb0295b78a
DTSTAMP:20260424T130217Z
LOCATION:The Gerber Center for Student Life
DESCRIPTION:Watch the FIFA World Cup finals with friends. Today's match is Argentina vs. France.\n
URL;VALUE=URI:https://augustana.edu/about-us/events/2022/world-cup-watch-party-18
SUMMARY:World Cup watch party
DTSTART:20221218T150000Z
END:VEVENT
END:VCALENDAR
