BEGIN:VCALENDAR
VERSION:2.0
PRODID:-//hacksw/handcal//NONSGML v1.0//EN
CALSCALE:GREGORIAN
BEGIN:VEVENT
DTEND:20230118T220000Z
UID: 69ebb2d21f47e
DTSTAMP:20260424T131338Z
LOCATION:The Gerber Center for Student Life
DESCRIPTION:Stalking is a serious\, prevalent and dangerous crime. Unfortunately\, stalking remains frequently misunderstood and rarely discussed\; even glamorized at times. Join this lab to discuss the realities of stalking and how to recognize the warning signs.&nbsp\;\n
URL;VALUE=URI:https://augustana.edu/about-us/events/2022/well-being-lab-talking-stalking
SUMMARY:Well-Being Lab: Talking Stalking
DTSTART:20230118T220000Z
END:VEVENT
END:VCALENDAR
