BEGIN:VCALENDAR
VERSION:2.0
PRODID:-//hacksw/handcal//NONSGML v1.0//EN
CALSCALE:GREGORIAN
BEGIN:VEVENT
DTEND:20230325T000000Z
UID: 69e619682cfc5
DTSTAMP:20260420T071744Z
LOCATION:
DESCRIPTION:The&nbsp\;Augustana Choir will perform at Our Savior’s Lutheran Church in Rockford\, Ill.\, as part of its spring tour.\n\nThe 52-voice ensemble will sing a selection of traditional and contemporary choral works.&nbsp\;\n
URL;VALUE=URI:https://augustana.edu/about-us/events/2023/augustana-choir-concert-rockford
SUMMARY:Augustana Choir concert in Rockford
DTSTART:20230325T000000Z
END:VEVENT
END:VCALENDAR
